BEGIN:VCALENDAR
VERSION:2.0
METHOD:PUBLISH
PRODID:-//Accessible Web Design//My Calendar//http://www.joedolson.com//v//EN';
BEGIN:VEVENT
UID:386-1
LOCATION:
SUMMARY:Trash Day
DTSTAMP:20280126
ORGANIZER;CN=FC:MAILTO:joe@surveyinstrumentsales.com
DTSTART:20280126
DTEND:20280128
CATEGORIES:General
URL;VALUE=URI:https://foxcroftofbloomfield.com/mc-events/trash-day/?mc_id=386
DESCRIPTION:
X-FUNAMBOL-ALLDAY: 1
X-MICROSOFT-CDO-ALLDAYEVENT: TRUE

END:VEVENT
END:VCALENDAR