BEGIN:VCALENDAR
VERSION:2.0
METHOD:PUBLISH
PRODID:-//Accessible Web Design//My Calendar//http://www.joedolson.com//v//EN';
BEGIN:VEVENT
UID:371-1
LOCATION:
SUMMARY:Trash Day
DTSTAMP:20271013
ORGANIZER;CN=FC:MAILTO:joe@surveyinstrumentsales.com
DTSTART:20271013
DTEND:20271015
CATEGORIES:General
URL;VALUE=URI:https://foxcroftofbloomfield.com/mc-events/trash-day/?mc_id=371
DESCRIPTION:
X-FUNAMBOL-ALLDAY: 1
X-MICROSOFT-CDO-ALLDAYEVENT: TRUE

END:VEVENT
END:VCALENDAR